BEGIN:VCALENDAR
VERSION:2.0
PRODID:-//FFGA - ECPv6.15.16//NONSGML v1.0//EN
CALSCALE:GREGORIAN
METHOD:PUBLISH
X-WR-CALNAME:FFGA
X-ORIGINAL-URL:https://www.ffga.com
X-WR-CALDESC:Events for FFGA
REFRESH-INTERVAL;VALUE=DURATION:PT1H
X-Robots-Tag:noindex
X-PUBLISHED-TTL:PT1H
BEGIN:VTIMEZONE
TZID:UTC
BEGIN:STANDARD
TZOFFSETFROM:+0000
TZOFFSETTO:+0000
TZNAME:UTC
DTSTART:20240101T000000
END:STANDARD
END:VTIMEZONE
BEGIN:VEVENT
DTSTART;VALUE=DATE:20250310
DTEND;VALUE=DATE:20250313
DTSTAMP:20260423T031128
CREATED:20250304T222711Z
LAST-MODIFIED:20250304T222711Z
UID:8211-1741564800-1741823999@www.ffga.com
SUMMARY:LSBA Annual Convention
DESCRIPTION:
URL:https://www.ffga.com/event/lsba-annual-convention/
LOCATION:Crowne Plaza Baton Rouge\, 4728 Constitution Ave\, Baton Rouge\, LA\, 70808\, United States
END:VEVENT
BEGIN:VEVENT
DTSTART;VALUE=DATE:20250305
DTEND;VALUE=DATE:20250308
DTSTAMP:20260423T031128
CREATED:20250304T222127Z
LAST-MODIFIED:20250304T222127Z
UID:8206-1741132800-1741391999@www.ffga.com
SUMMARY:SCASBO Spring Conference
DESCRIPTION:Step into spring’s refreshing energy at the SCASBO Spring Conference in Myrtle Beach\, S.C.\, from Mar. 5-7. Our team will be available to discuss innovative benefits solutions that capture the essence of spring—a time for renewal and forward-thinking. Let us help you navigate the complexities of benefits planning with a fresh\, tailored approach that aligns with your organizational goals.
URL:https://www.ffga.com/event/scasbo-spring-conference/
LOCATION:Myrtle Beach Hilton\, 10000 Beach Club Drive\, Myrtle Beach\, SC\, 29572\, United States
END:VEVENT
BEGIN:VEVENT
DTSTART;VALUE=DATE:20250224
DTEND;VALUE=DATE:20250301
DTSTAMP:20260423T031128
CREATED:20250220T195636Z
LAST-MODIFIED:20250220T195636Z
UID:7831-1740355200-1740787199@www.ffga.com
SUMMARY:TASBO Engage Conference
DESCRIPTION:Booth #243 \n\n Tuesday\, February 25\n\n3:15 PM – 6:00 PM Exhibit Hall Preview\n\n\nWednesday\, February 26\n\n10:00 AM – 3:00 PM Exhibit Hall Open
URL:https://www.ffga.com/event/tasbo-engage-conference/
LOCATION:Austin Convention Center\, 500 E Cesar Chavez St\, Austin\, TX\, 78701\, United States
END:VEVENT
END:VCALENDAR