BEGIN:VCALENDAR
VERSION:2.0
PRODID:-//FFGA - ECPv6.15.16//NONSGML v1.0//EN
CALSCALE:GREGORIAN
METHOD:PUBLISH
X-ORIGINAL-URL:https://www.ffga.com
X-WR-CALDESC:Events for FFGA
REFRESH-INTERVAL;VALUE=DURATION:PT1H
X-Robots-Tag:noindex
X-PUBLISHED-TTL:PT1H
BEGIN:VTIMEZONE
TZID:UTC
BEGIN:STANDARD
TZOFFSETFROM:+0000
TZOFFSETTO:+0000
TZNAME:UTC
DTSTART:20250101T000000
END:STANDARD
END:VTIMEZONE
BEGIN:VEVENT
DTSTART;VALUE=DATE:20260324
DTEND;VALUE=DATE:20260327
DTSTAMP:20260419T193307
CREATED:20260317T155105Z
LAST-MODIFIED:20260317T155105Z
UID:8970-1774310400-1774569599@www.ffga.com
SUMMARY:SASBO/VASBO Joint Conference & Discovery Forum
DESCRIPTION:
URL:https://www.ffga.com/event/sasbo-vasbo-joint-conference-discovery-forum/
LOCATION:Hilton Mark Center Hotel\, 5000 Seminary Rd\, Alexandria\, VA\, United States
END:VEVENT
BEGIN:VEVENT
DTSTART;VALUE=DATE:20260325
DTEND;VALUE=DATE:20260328
DTSTAMP:20260419T193307
CREATED:20260317T155247Z
LAST-MODIFIED:20260317T155247Z
UID:8973-1774396800-1774655999@www.ffga.com
SUMMARY:NCASA Conference on Educational Leadership
DESCRIPTION:
URL:https://www.ffga.com/event/ncasa-conference-on-educational-leadership/
LOCATION:Wilmington Convention Center\, 10 Convention Center Dr.\, Wilmington\, NC\, 28401\, United States
END:VEVENT
END:VCALENDAR